BEGIN:VCALENDAR
VERSION:2.0
PRODID:-//eventon.com NONSGML v1.0//EN
CALSCALE:GREGORIAN
METHOD:PUBLISH
BEGIN:VEVENT
UID:69ea31552b8d1
DTSTAMP:20260423T144853Z
DTSTART:20260418T130000Z
DTEND:20260418T180000Z
LOCATION:
SUMMARY:Safety Foundation Spring Ride / Greenville Spinners
DESCRIPTION:Safety Foundation Spring Ride / Greenville Spinners\nhttps://ww
 w.greenvillespinners.org/events/safety-foundation-spring-ride/
URL:https://www.greenvillespinners.org/events/safety-foundation-spring-ride/
END:VEVENT
END:VCALENDAR