BEGIN:VCALENDAR
VERSION:2.0
PRODID:-//eventon.com NONSGML v1.0//EN
CALSCALE:GREGORIAN
METHOD:PUBLISH
BEGIN:VEVENT
UID:69e8914a2698d
DTSTAMP:20260422T091346Z
DTSTART:20250301
DTEND:20250302
LOCATION:
SUMMARY:Du the Dirt Duathlon
DESCRIPTION:Du the Dirt Duathlon\nhttps://www.greenvillespinners.org/events
 /du-the-dirt-duathlon/
URL:https://www.greenvillespinners.org/events/du-the-dirt-duathlon/
END:VEVENT
END:VCALENDAR