BEGIN:VCALENDAR
VERSION:2.0
PRODID:-//eventon.com NONSGML v1.0//EN
CALSCALE:GREGORIAN
METHOD:PUBLISH
BEGIN:VEVENT
UID:69eae67199f96
DTSTAMP:20260424T034137Z
DTSTART:20230916
DTEND:20230917
LOCATION:
SUMMARY:Follow the Cross Bike Tour
DESCRIPTION:Follow the Cross Bike Tour\nhttps://www.greenvillespinners.org/
 events/follow-the-cross-bike-tour/
URL:https://www.greenvillespinners.org/events/follow-the-cross-bike-tour/
END:VEVENT
END:VCALENDAR