BEGIN:VCALENDAR
VERSION:2.0
PRODID:-//eventon.com NONSGML v1.0//EN
CALSCALE:GREGORIAN
METHOD:PUBLISH
BEGIN:VEVENT
UID:69e890c8b2fc0
DTSTAMP:20260422T091136Z
DTSTART:20251227T150000Z
DTEND:20251227T190000Z
LOCATION:
SUMMARY:Final Fifty / Greenville Spinners
DESCRIPTION:Final Fifty / Greenville Spinners\nhttps://www.greenvillespinne
 rs.org/events/final-fifty/
URL:https://www.greenvillespinners.org/events/final-fifty/
END:VEVENT
END:VCALENDAR