BEGIN:VCALENDAR
VERSION:2.0
PRODID:-//eventon.com NONSGML v1.0//EN
CALSCALE:GREGORIAN
METHOD:PUBLISH
BEGIN:VEVENT
UID:69e7418420907
DTSTAMP:20260421T092108Z
DTSTART:20250726
DTEND:20250727
LOCATION:
SUMMARY:Jerdon Mountain
DESCRIPTION:This is backcountry MTB racing at its finest with a shorter cou
 rse and still all the amenities of a long distance endurance race. The Jerd
 on Mountain Challenge will run on some of the same trails as the ever popu
 lar Off Road Assault on Mt Mitchell in Old Fort\,  North Carolina. Racers[.
 .]\nhttps://www.greenvillespinners.org/events/jerdon-mountain/
URL:https://www.greenvillespinners.org/events/jerdon-mountain/
END:VEVENT
END:VCALENDAR